BEGIN:VCALENDAR
VERSION:2.0
PRODID:icalendar-ruby
CALSCALE:GREGORIAN
METHOD:PUBLISH
BEGIN:VEVENT
DTSTAMP:20260422T225847Z
UID:150-4303128@ucpoco.ca
DTSTART:20261008T020000Z
DTEND:20261008T040000Z
CLASS:PUBLIC
CREATED:20260422T152248
DESCRIPTION:Community Group meets weekly. Contact: Susan Mansoor - mansoors
 usan@gmail.com.
LAST-MODIFIED:20260422T152248
LOCATION:Library
SUMMARY:Al Anon (Library)
URL;VALUE=URI:https://ucpoco.ca/events/al-anon-library--150/2026-10-07
ATTACH;FILENAME=coffee-2893970_1920.jpg;FMTTYPE=image/jpeg:https://dq5pwpg1
 q8ru0.cloudfront.net/2024/09/19/19/14/40/e7ddc365-460c-45f0-a62d-960c184b3
 1fa/coffee-2893970_1920.jpg
END:VEVENT
END:VCALENDAR
