BEGIN:VCALENDAR
VERSION:2.0
PRODID:icalendar-ruby
CALSCALE:GREGORIAN
METHOD:PUBLISH
BEGIN:VEVENT
DTSTAMP:20260423T030810Z
UID:15-4304889@ucpoco.ca
DTSTART:20261023T020000Z
DTEND:20261023T030000Z
CLASS:PUBLIC
CREATED:20260422T181440
DESCRIPTION:PoCoNuts is a Cocaine Anonymous group that meets weekly.\nCoc
 aine Anonymous is a fellowship of men and women who share their experience
 s\, strengths and hope with each other so they may solve their common prob
 lem and help others to recover from their addiction. \nThe only requireme
 nt for membership is a desire to stop using cocaine and all other mind-alt
 ering substances. Our primary purpose is to stay free from cocaine and all
  other mind-altering substances\, and to help others to achieve the same f
 reedom.\nWe are not allied with any sect\, denomination\, politics\, organ
 ization or institution. We do not wish to engage in any controversy and we
  neither endorse nor oppose any causes.\nWe use the 12 Step Recovery Progr
 am\, because it has already been proven that the 12 Step Recovery Program 
 really works.\nhttp://www.ca-bc.org/\nNeed help? Call 1-866-662-8300 or 60
 4-662-8500.\n\n\n\n\n\n\nNeed Help? Call 1-866-662-8300 or 604-662-8500\n
 \n\n\n\n\n
LAST-MODIFIED:20260422T181440
LOCATION:Hall
SUMMARY:C/A (Hall)
URL;VALUE=URI:https://ucpoco.ca/events/c-a-hall/2026-10-22
ATTACH;FILENAME=1308fdeed8723a3ab6db955eb17c4c62.png;FMTTYPE=image/png:http
 s://dq5pwpg1q8ru0.cloudfront.net/2020/02/14/13/37/52/8c3d26c1-af61-469a-88
 b7-14126e72fdda/1308fdeed8723a3ab6db955eb17c4c62.png
END:VEVENT
END:VCALENDAR
