BEGIN:VCALENDAR
VERSION:2.0
PRODID:icalendar-ruby
CALSCALE:GREGORIAN
METHOD:PUBLISH
BEGIN:VEVENT
DTSTAMP:20260425T154521Z
UID:149-4340249@ucpoco.ca
DTSTART:20260906T213000Z
DTEND:20260907T003000Z
CLASS:PUBLIC
CREATED:20260425T062226
DESCRIPTION:Wooden Cross Korean Church offers worship service at 2:30 pm ev
 ery Sunday. All are welcome.\nPlease visit their website for more details:
  https://vanwckc.com/
LAST-MODIFIED:20260425T062226
LOCATION:Sanctuary + Hall
SUMMARY:Wooden Cross Korean Church
URL;VALUE=URI:https://ucpoco.ca/events/wooden-cross-korean-church/2026-09-0
 6
ATTACH;FILENAME=Wooden Cross Korean Church.jpg;FMTTYPE=image/jpeg:https://d
 q5pwpg1q8ru0.cloudfront.net/2024/09/20/21/26/21/73448194-40f3-4f29-9b97-7d
 23d6b6138c/Wooden%20Cross%20Korean%20Church.jpg
END:VEVENT
END:VCALENDAR
